Workbook
Name Level1Category: Data!$H:$H
Name Level2Subgroup: Data!$I:$I
Name Level3Task: Data!$Z:$Z
Name MotorChallenge: Data!$AJ:$AJ
Name ProcessChallenge: Data!$AK:$AK
Name Rating: Data!$O$25:$O$28
Name Satisfaction: Data!$I$16:$I$20
Name Score: Data!$P$25:$P$28
Name SubgroupFullList: Data!$Y:$Y
Name TaskFullList: Data!$AI:$AI

Sheet ADLProgram
C2: Qualità della Performance Occupazionale: ADL – Report dei Risultati
A4: Nome | L4: Data valutazione
A6: Data di nascita | L6: Età (anni) | N6: =DATEDIF(C6,N4,"Y") -> 0
A8: Terapista occupazionale
A10: Osservazione 1 – Descrizione del compito osservato | I10: Osservazione 2 – Descrizione del compito osservato
A11: Categoria | I11: Categoria
A13: Sottogruppo | I13: Sottogruppo
A15: Compito realizzato | I15: Compito realizzato
A17: Difficoltà del compito ADL motorio | I17: Difficoltà del compito ADL motorio
A18: =_xlfn.XLOOKUP(A16,Data!D:D,Data!E:E,"Not found") -> 0 | I18: =_xlfn.XLOOKUP(I16,Data!D:D, Data!E:E,"Not found") -> 0
A19: Difficoltà del compito ADL di processo | I19: Difficoltà del compito ADL di processo
A20: =_xlfn.XLOOKUP(A16, Data!D:D, Data!F:F, "Not found") -> 0 | I20: =_xlfn.XLOOKUP(I16,Data!D:D, Data!F:F,"NotFound") -> 0
A23: Risultati: Abilità motoria | I23: Risultati: Abilità di processo
A24: Punteggio ADL motorio corretto in unità di scala* (scala: 0–100)* | I24: Punteggio ADL processo corretto in unità di scala* (scala: 0–100)*
A25: =A60 -> #VALUE! | C25: =INDEX(Table4[Minterp],MATCH(A25, Table4[Mscale],1)) -> #VALUE! | I25: =((F91-C92)/(C90-C92))*100 -> #VALUE! | K25: =INDEX(Table5[Pinterp],MATCH(I25, Table5[Pscale],1)) -> #VALUE!
A26: =IF(A25<7,"Non valido: valutazioni delle abilità troppo bassee",IF(A25>89, "Non valido: valutazioni delle abilità troppo elevate","")) -> #VALUE! | I26: =IF(I25<8,"Non valido: valutazioni delle abilità troppo basse",IF(I25>83, "Non valido: N31 valutazioni delle abilità troppo elevate","")) -> #VALUE!
A28: Punteggio z standardizzato basato sull'età della persona (M = 0; SD = 1)* | I28: ADL motorio | K28: {=_xlfn.LET(_xlpm.age,N6,_xlpm.scaled,ROUND(A25,0),_xlpm.mean,_xlfn.XLOOKUP(1,(_xlpm.age>=Table2[AgeMin])*(_xlpm.age<=Table2[AgeMax]),Table2[MotorM]),_xlpm.sdev,_xlfn.XLOOKUP(1,(_xlpm.age>=Table2[AgeMin])*(_xlpm.age<=Table2[AgeMax]),Table2[MotorSD]),_xlpm.z,(_xlpm.scaled-_xlpm.mean)/_xlpm.sdev,IF(OR(_xlpm.scaled<7,_xlpm.scaled>89),"INVALID",IFERROR(IF(_xlpm.z>3,"> 3.0",IF(_xlpm.z<-3,"< -3.0",ROUND(_xlpm.z,1))),"")))} -> #VALUE! | L28: ADL di processo | N28: {=_xlfn.LET(_xlpm.age,N6,_xlpm.scaled,ROUND(I25,0),_xlpm.mean,_xlfn.XLOOKUP(1,(_xlpm.age>=Table2[AgeMin])*(_xlpm.age<=Table2[AgeMax]),Table2[ProcessM]),_xlpm.sdev,_xlfn.XLOOKUP(1,(_xlpm.age>=Table2[AgeMin])*(_xlpm.age<=Table2[AgeMax]),Table2[ProcessSD]),_xlpm.z,(_xlpm.scaled-_xlpm.mean)/_xlpm.sdev,IF(OR(_xlpm.scaled<8,_xlpm.scaled>83),"INVALID",IFERROR(IF(_xlpm.z>3,"> 3.0",IF(_xlpm.z<-3,"< -3.0",ROUND(_xlpm.z,1))),"")))} -> #VALUE!
A29: * Le definizioni dei termini chiave riportati nei Risultati sono elencate sotto.
A32: Livello di soddisfazione riportato sulla performance dell'ADL*
A34: Osservazione Compito 1: | I34: Osservazione Compito 2:
A36: Valutazioni delle abilità motorie di performance occupazionale
A37: Osservazione 1 | I37: Osservazione 2
A38: Abilità motorie di | E38: Problema | F38: Score | I38: Abilità motorie di | M38: Problema | N38: Score
A39: performance occupazionale | E39: osservato | I39: performance occupazionale | M39: osservato
A40: Si Stabilizza | F40: =_xlfn.XLOOKUP(E40, Rating,Score, "Not found") -> Not found | I40: Si Stabilizza | N40: =_xlfn.XLOOKUP(M40, Rating, Score, "Not found") -> Not found
A41: Si Allinea | F41: =_xlfn.XLOOKUP(E41, Rating,Score, "Not found") -> Not found | I41: Si Allinea | N41: =_xlfn.XLOOKUP(M41, Rating, Score, "Not found") -> Not found
A42: Si Posiziona | F42: =_xlfn.XLOOKUP(E42, Rating,Score, "Not found") -> Not found | I42: Si Posiziona | N42: =_xlfn.XLOOKUP(M42, Rating, Score, "Not found") -> Not found
A43: Raggiunge | F43: =_xlfn.XLOOKUP(E43, Rating,Score, "Not found") -> Not found | I43: Raggiunge | N43: =_xlfn.XLOOKUP(M43, Rating, Score, "Not found") -> Not found
A44: Si Piega | F44: =_xlfn.XLOOKUP(E44, Rating,Score, "Not found") -> Not found | I44: Si Piega | N44: =_xlfn.XLOOKUP(M44, Rating, Score, "Not found") -> Not found
A45: Afferra | F45: =_xlfn.XLOOKUP(E45, Rating,Score, "Not found") -> Not found | I45: Afferra | N45: =_xlfn.XLOOKUP(M45, Rating, Score, "Not found") -> Not found
A46: Manipola | F46: =_xlfn.XLOOKUP(E46, Rating,Score, "Not found") -> Not found | I46: Manipola | N46: =_xlfn.XLOOKUP(M46, Rating, Score, "Not found") -> Not found
A47: Coordina | F47: =_xlfn.XLOOKUP(E47, Rating,Score, "Not found") -> Not found | I47: Coordina | N47: =_xlfn.XLOOKUP(M47, Rating, Score, "Not found") -> Not found
A48: Muove | F48: =_xlfn.XLOOKUP(E48, Rating,Score, "Not found") -> Not found | I48: Muove | N48: =_xlfn.XLOOKUP(M48, Rating, Score, "Not found") -> Not found
A49: Solleva | F49: =_xlfn.XLOOKUP(E49, Rating,Score, "Not found") -> Not found | I49: Solleva | N49: =_xlfn.XLOOKUP(M49, Rating, Score, "Not found") -> Not found
A50: Cammina | F50: =_xlfn.XLOOKUP(E50, Rating,Score, "Not found") -> Not found | I50: Cammina | N50: =_xlfn.XLOOKUP(M50, Rating, Score, "Not found") -> Not found
A51: Trasporta | F51: =_xlfn.XLOOKUP(E51, Rating,Score, "Not found") -> Not found | I51: Trasporta | N51: =_xlfn.XLOOKUP(M51, Rating, Score, "Not found") -> Not found
... A55: Mantiene il Tempo | F55: =_xlfn.XLOOKUP(E55, Rating,Score, "Not found") -> Not found | I55: Mantiene il Tempo | N55: =_xlfn.XLOOKUP(M55, Rating, Score, "Not found") -> Not found
A57: Raw Total | C57: Max | E57: Raw total 1 | F57: {=SUM(VALUE(F40:F55))} -> #VALUE! | M57: Raw total 1 | N57: {=SUM(VALUE(N40:N55))} -> #VALUE!
A58: =F57+N57 -> #VALUE! | C58: 128 | E58: Adjustment1 | F58: =_xlfn.XLOOKUP(A18,Data!AJ:AJ, Data!AL:AL,"Not found") -> Not found | M58: Adjustment1 | N58: =_xlfn.XLOOKUP(I18, Data!AJ:AJ, Data!AL:AL,"Not found") -> Not found
A59: ScaledScore | C59: Min
A60: =((F60-C60)/(C58-C60))*100 -> #VALUE! | C60: 32 | E60: AdjTotal | F60: =(A58)+(F58)+(N58) -> #VALUE!
A64: Valutazioni delle abilità di processo di performance occupazionale
A65: Osservazione 1 | I65: Osservazione 2
A66: Abilità di processo di | E66: Problema | F66: Score | I66: Abilità di processo di | M66: Problema | N66: Score
A67: performance occupazionale | E67: osservato | I67: performance occupazionale | M67: osservato
A68: Mantiene il Tempo | F68: =_xlfn.XLOOKUP(E68, Rating, Score, "Not found") -> Not found | I68: Mantiene il Tempo | N68: =_xlfn.XLOOKUP(M68, Rating, Score, "Not found") -> Not found
A69: E' Attento | F69: =_xlfn.XLOOKUP(E69, Rating, Score, "Not found") -> Not found | I69: E' Attento | N69: =_xlfn.XLOOKUP(M69, Rating, Score, "Not found") -> Not found
A70: Persegue l'Obiettivo | F70: =_xlfn.XLOOKUP(E70, Rating, Score, "Not found") -> Not found | I70: Persegue l'Obiettivo | N70: =_xlfn.XLOOKUP(M70, Rating, Score, "Not found") -> Not found
A71: Sceglie | F71: =_xlfn.XLOOKUP(E71, Rating, Score, "Not found") -> Not found | I71: Sceglie | N71: =_xlfn.XLOOKUP(M71, Rating, Score, "Not found") -> Not found
A72: Usa | F72: =_xlfn.XLOOKUP(E72, Rating, Score, "Not found") -> Not found | I72: Usa | N72: =_xlfn.XLOOKUP(M72, Rating, Score, "Not found") -> Not found
A73: Maneggia | F73: =_xlfn.XLOOKUP(E73, Rating, Score, "Not found") -> Not found | I73: Maneggia | N73: =_xlfn.XLOOKUP(M73, Rating, Score, "Not found") -> Not found
A74: Chiede | F74: =_xlfn.XLOOKUP(E74, Rating, Score, "Not found") -> Not found | I74: Chiede | N74: =_xlfn.XLOOKUP(M74, Rating, Score, "Not found") -> Not found
A75: Inizia | F75: =_xlfn.XLOOKUP(E75, Rating, Score, "Not found") -> Not found | I75: Inizia | N75: =_xlfn.XLOOKUP(M75, Rating, Score, "Not found") -> Not found
A76: Continua | F76: =_xlfn.XLOOKUP(E76, Rating, Score, "Not found") -> Not found | I76: Continua | N76: =_xlfn.XLOOKUP(M76, Rating, Score, "Not found") -> Not found
A77: Ordina | F77: =_xlfn.XLOOKUP(E77, Rating, Score, "Not found") -> Not found | I77: Ordina | N77: =_xlfn.XLOOKUP(M77, Rating, Score, "Not found") -> Not found
A78: Termina | F78: =_xlfn.XLOOKUP(E78, Rating, Score, "Not found") -> Not found | I78: Termina | N78: =_xlfn.XLOOKUP(M78, Rating, Score, "Not found") -> Not found
A79: Cerca/Localizza | F79: =_xlfn.XLOOKUP(E79, Rating, Score, "Not found") -> Not found | I79: Cerca/Localizza | N79: =_xlfn.XLOOKUP(M79, Rating, Score, "Not found") -> Not found
... A87: Trae Beneficio | F87: =_xlfn.XLOOKUP(E87, Rating, Score, "Not found") -> Not found | I87: Trae Beneficio | N87: =_xlfn.XLOOKUP(M87, Rating, Score, "Not found") -> Not found
A89: Raw Total | C89: Max | E89: Rawtotal1 | F89: {=SUM(VALUE(F68:F87))} -> #VALUE! | M89: Rawtotal1 | N89: {=SUM(VALUE(N68:N87))} -> #VALUE!
A90: =F89+N89 -> #VALUE! | C90: 160 | E90: Adjustment1 | F90: =_xlfn.XLOOKUP(A20, Data!AK:AK, Data!AM:AM, "Not found") -> Not found | M90: Adjustment1 | N90: =_xlfn.XLOOKUP(I20,Data!AK:AK, Data!AM:AM,"Not found") -> Not found
A91: ScaledScore | C91: Min | E91: AdjTotal | F91: =(A90)+(F90)+(N90) -> #VALUE!
A92: =((F91-C92)/(C90-C92))*100 -> #VALUE! | C92: 40
A95: Definizioni dei termini nei Risultati
A96: Il punteggio scalato corretto fornisce la base per l'interpretazione riferita al criterio della qualità della performance della persona osservata nelle ADL, basata sulle valutazioni di 16 abilità motorie e 20 abilità di processo. Il criterio per una performance ADL motoria competente è definito che è senza sforzo o goffaggine; le azioni (abilità) del compito ADL vengono eseguite con accuratezza e fluidità, senza errori involontari (es. caduta di oggetti, rovesciamento, urti o inciampi). Il criterio per una performance ADL di processo competente è definito che è eseguito in modo efficiente, utilizzando strumenti e materiali appropriati; le azioni ADL sono ben organizzate, tempestive, prive di passaggi non necessari, pause o disorganizzazione spaziale. Lo errore standard (SE) del punteggio scalato corretto della scala di abilità motoria è di 6 unità scalari. Lo SE del punteggio scalato corretto della scala di abilità di processo è di 4,5 unità scalari.
A97: Il punteggio z standardizzato mostra quanto il risultato del test di una persona sia al di sopra o al di sotto della media (M) delle persone con sviluppo tipico della stessa età, espresso in unità di deviazione standard (SD). Un punteggio z positivo (es. +1,0) significa che il punteggio corretto della persona è superiore alla media, mentre un punteggio z negativo (es. -1,0) significa che è inferiore alla media. L'intervallo atteso è spesso definito entro ±1 SD dalla media (circa il 68% delle persone con sviluppo tipico) o, più ampiamente, entro ±2 SD (circa il 95%), sebbene i criteri per una performance adeguata all'età possano variare a seconda dei contesti.
A98: Il livello di soddisfazione auto-riferito è il grado di cui la persona si ritiene soddisfatta (o non del tutto soddisfatta) della propria performance nelle ADL subito dopo ogni osservazione.
A100: Interpretazione riferita ai criteri
A101: Unità di scala aggiustata: ADL motorie
A102: 90 e al di sopra | D102: Non valido: valutazioni delle abilità troppo elevate – punteggio corretto non valido
A103: 84–89 | D103: I compiti ADL sono realizzati senza eccessivo sforzo o goffaggine: le azioni sono fluide ed accurate
A104: 77–83 | D104: Potrebbe realizzare compiti ADL con ulteriore lieve sforzo o goffaggine
A105: 7–76 | D105: I compiti ADL sono realizzati con eccessivo sforzo o goffaggine
A106: 6 e al di sotto | D106: Non valido: valutazioni delle abilità troppo basse – punteggio corretto non valido
A107: Unità di scala aggiustata: ADL di processo
A108: 84 e al di sopra | D108: Non valido: valutazioni delle abilità troppo elevate – punteggio corretto non valido
A109: 71–83 | D109: I compiti ADL sono realizzati in modo efficiente: le azioni sono tempestive e ben organizzate
A110: 58–70 | D110: I compiti ADL sono realizzati con lievi inefficienze
A111: 8–57 | D111: I compiti ADL sono realizzati con lievi inefficienze
A112: 7 e al di sotto | D112: Non valido: valutazioni delle abilità troppo basse – punteggio corretto non valido
A114: Firma del terapista
A115: occupazionale | L115: Data del report

Sheet 2026.08.16

Sheet Data
O1: Possible options | P1: 1 | Q1: 2 | R1: 3 | S1: 4 | T1: 5 | U1: 6 | V1: 7 | W1: 8
B2: Category | C2: Subgroup | D2: Task | E2: Motor challenge | F2: Process challenge | H2: Level1Category | I2: Level2Subgroup | P2: Need up to 7 columns for data to poplulate | Y2: SubgroupFullList | Z2: Level3Task | AI2: TaskFullList | AJ2: MotorChallenge | AK2: ProcessChallenge | AL2: MotorPoints | AM2: ProcessPoints
B3: ADL personali | C3: Cura personale | D3: Pettinare o spazzolare i capelli | E3: Molto sotto la media | F3: Molto sotto la media | H3: Formula 1 | I3: Formula 2 | O3: Data Validation Formula 3 | Y3: Formula 1 | Z3: Formula 2 | AI3: Formula1 | AJ3: Formula2 | AK3: Formula2
B4: ADL personali | C4: Cura personale | D4: Eseguire un singolo compito di cura personale | E4: Sotto la media | F4: Sotto la media | H4: {=_xlfn.UNIQUE(Table1[Category])} -> ADL personali | I4: {=_xlfn.TOROW(_xlfn.UNIQUE(_xlfn._xlws.FILTER(Table1[Subgroup],Table1[Category]=H4,"FutureTask")))} -> Cura personale | J4: Fare la doccia | K4: Vestirsi | L4: Cura personale e vestirsi | M4: Mangiare uno spuntino o un pasto | O4: Personal ADL | P4: {=_xlfn.ANCHORARRAY(_xlfn.XLOOKUP(O4,Level1Category,Level2Subgroup))} -> #N/A | Y4: {=_xlfn.UNIQUE(Table1[Subgroup])} -> Cura personale | Z4: {=_xlfn.TOROW(_xlfn.UNIQUE(_xlfn._xlws.FILTER(Table1[Task],Table1[Subgroup]=Y4,"FutureTask")))} -> Pettinare o spazzolare i capelli | AA4: Eseguire un singolo compito di cura personale | AB4: Cura della parte superiore del corpo | AI4: {=_xlfn.UNIQUE(Table1[Task])} -> Pettinare o spazzolare i capelli | AJ4: {=_xlfn.TOROW(_xlfn.UNIQUE(_xlfn._xlws.FILTER(Table1[Motor challenge],Table1[Task]=AI4,"FutureTask")))} -> Molto sotto la media | AK4: {=_xlfn.TOROW(_xlfn.UNIQUE(_xlfn._xlws.FILTER(Table1[Process challenge],Table1[Task]=AI4,"FutureTask")))} -> Molto sotto la media | AL4: -6 | AM4: -12
B5: ADL personali | C5: Cura personale | D5: Cura della parte superiore del corpo | E5: Poco sotto la media | F5: Poco sotto la media | H5: Bevande e colazioni | I5: {=_xlfn.TOROW(_xlfn.UNIQUE(_xlfn._xlws.FILTER(Table1[Subgroup],Table1[Category]=H5,"FutureTask")))} -> Bevande con/senza spuntino | J5: Cereali o pane tostato con bevanda | K5: Uova | L5: Toast alla francese e pancake | Y5: Fare la doccia | Z5: {=_xlfn.TOROW(_xlfn.UNIQUE(_xlfn._xlws.FILTER(Table1[Task],Table1[Subgroup]=Y5,"FutureTask")))} -> Fare la doccia nel box doccia o nella vasca da bagno | AI5: Eseguire un singolo compito di cura personale | AJ5: {=_xlfn.TOROW(_xlfn.UNIQUE(_xlfn._xlws.FILTER(Table1[Motor challenge],Table1[Task]=AI5,"FutureTask")))} -> Sotto la media | AK5: {=_xlfn.TOROW(_xlfn.UNIQUE(_xlfn._xlws.FILTER(Table1[Process challenge],Table1[Task]=AI5,"FutureTask")))} -> Sotto la media | AL5: -4 | AM5: -8
B6: ADL personali | C6: Fare la doccia | D6: Fare la doccia nel box doccia o nella vasca da bagno | E6: Nella media | F6: Nella media | H6: Insalate, zuppe e panini | I6: {=_xlfn.TOROW(_xlfn.UNIQUE(_xlfn._xlws.FILTER(Table1[Subgroup],Table1[Category]=H6,"FutureTask")))} -> Insalate | J6: Zuppe | K6: Panini – aperti o chiusi | O6: Groom | P6: {=_xlfn.ANCHORARRAY(_xlfn.XLOOKUP(O6,SubgroupFullList,Level3Task))} -> #N/A | Y6: Vestirsi | Z6: {=_xlfn.TOROW(_xlfn.UNIQUE(_xlfn._xlws.FILTER(Table1[Task],Table1[Subgroup]=Y6,"FutureTask")))} -> Indossare e allacciare le scarpe | AA6: Indossare calze e scarpe – con lacci o senza lacci | AB6: Indossare una camicia o blusa | AC6: Indossare un indumento con cerniera frontale | AD6: Vestire la parte superiore e inferiore del corpo | AI6: Cura della parte superiore del corpo | AJ6: {=_xlfn.TOROW(_xlfn.UNIQUE(_xlfn._xlws.FILTER(Table1[Motor challenge],Table1[Task]=AI6,"FutureTask")))} -> Poco sotto la media | AK6: {=_xlfn.TOROW(_xlfn.UNIQUE(_xlfn._xlws.FILTER(Table1[Process challenge],Table1[Task]=AI6,"FutureTask")))} -> Poco sotto la media | AL6: -2 | AM6: -4
B7: ADL personali | C7: Vestirsi | D7: Indossare e allacciare le scarpe | E7: Poco sotto la media | F7: Molto sotto la media | H7: Altri piatti e preparazioni di cibo | I7: {=_xlfn.TOROW(_xlfn.UNIQUE(_xlfn._xlws.FILTER(Table1[Subgroup],Table1[Category]=H7,"FutureTask")))} -> Piatti pronti da riscaldare | J7: Piatti di pasta o di riso | K7: Polpette | L7: Preparazione del cibo e cottura al forno | M7: Grigliata all’aperto | Y7: Cura personale e vestirsi | Z7: {=_xlfn.TOROW(_xlfn.UNIQUE(_xlfn._xlws.FILTER(Table1[Task],Table1[Subgroup]=Y7,"FutureTask")))} -> Cura personale e vestirsi parte superiore e inferiore del corpo | AI7: Fare la doccia nel box doccia o nella vasca da bagno | AJ7: {=_xlfn.TOROW(_xlfn.UNIQUE(_xlfn._xlws.FILTER(Table1[Motor challenge],Table1[Task]=AI7,"FutureTask")))} -> Nella media | AK7: {=_xlfn.TOROW(_xlfn.UNIQUE(_xlfn._xlws.FILTER(Table1[Process challenge],Table1[Task]=AI7,"FutureTask")))} -> Nella media | AL7: 0 | AM7: 0
B8: ADL personali | C8: Vestirsi | D8: Indossare calze e scarpe – con lacci o senza lacci | E8: Poco sotto la media | F8: Molto sotto la media | H8: Pulizia e bucato | I8: {=_xlfn.TOROW(_xlfn.UNIQUE(_xlfn._xlws.FILTER(Table1[Subgroup],Table1[Category]=H8,"FutureTask")))} -> Pulizia del pavimento | J8: Pulizia del bagno | K8: Lavaggio delle finestre | L8: Bucato | O8: motor | Y8: Mangiare uno spuntino o un pasto | Z8: {=_xlfn.TOROW(_xlfn.UNIQUE(_xlfn._xlws.FILTER(Table1[Task],Table1[Subgroup]=Y8,"FutureTask")))} -> Mangiare uno spuntino – con/senza bevanda | AA8: Mangiare un pasto con bevanda – con posate o bacchette | AI8: Indossare e allacciare le scarpe | AJ8: {=_xlfn.TOROW(_xlfn.UNIQUE(_xlfn._xlws.FILTER(Table1[Motor challenge],Table1[Task]=AI8,"FutureTask")))} -> Poco sotto la media | AK8: {=_xlfn.TOROW(_xlfn.UNIQUE(_xlfn._xlws.FILTER(Table1[Process challenge],Table1[Task]=AI8,"FutureTask")))} -> Molto sotto la media | AL8: -2 | AM8: -12
B9: ADL personali | C9: Vestirsi | D9: Indossare una camicia o blusa | E9: Poco sotto la media | F9: Sotto la media | H9: Altri compiti domestici di routine | I9: {=_xlfn.TOROW(_xlfn.UNIQUE(_xlfn._xlws.FILTER(Table1[Subgroup],Table1[Category]=H9,"FutureTask")))} -> Apparecchiare il tavolo | J9: Lavare e/o riporre i piatti | K9: Dare da mangiare agli animali domestici e cambiare l’acqua | L9: Compiti relativi al letto | M9: Cura delle piante | O9: Pour beverage | P9: {=_xlfn.ANCHORARRAY(_xlfn.XLOOKUP(O9,TaskFullList,MotorChallenge))} -> #N/A | Y9: Bevande con/senza spuntino | Z9: {=_xlfn.TOROW(_xlfn.UNIQUE(_xlfn._xlws.FILTER(Table1[Task],Table1[Subgroup]=Y9,"FutureTask")))} -> Versare una bevanda | AA9: Preparare una bevanda calda o fredda | AB9: Preparare una caffettiera o una teiera di bevanda calda | AC9: Preparare un caffè espresso con la caffettiera | AD9: Preparare il mate | AE9: Preparare una teiera di bevanda filtrata servita con spuntino | AI9: Indossare calze e scarpe – con lacci o senza lacci | AJ9: {=_xlfn.TOROW(_xlfn.UNIQUE(_xlfn._xlws.FILTER(Table1[Motor challenge],Table1[Task]=AI9,"FutureTask")))} -> Poco sotto la media | AK9: {=_xlfn.TOROW(_xlfn.UNIQUE(_xlfn._xlws.FILTER(Table1[Process challenge],Table1[Task]=AI9,"FutureTask")))} -> Molto sotto la media | AL9: -2 | AM9: -12
B10: ADL personali | C10: Vestirsi | D10: Indossare un indumento con cerniera frontale | E10: Poco sotto la media | F10: Sotto la media | H10: Attività all’esterno e nella comunità | I10: {=_xlfn.TOROW(_xlfn.UNIQUE(_xlfn._xlws.FILTER(Table1[Subgroup],Table1[Category]=H10,"FutureTask")))} -> Manutenzione all’esterno | J10: Fare la spesa | O10: process | Y10: Cereali o pane tostato con bevanda | Z10: {=_xlfn.TOROW(_xlfn.UNIQUE(_xlfn._xlws.FILTER(Table1[Task],Table1[Subgroup]=Y10,"FutureTask")))} -> Preparare cereali freddi con latte/yogurt e bevanda | AA10: Preparare cereali cotti e bevanda | AB10: Preparare cereali cotti, un panino al formaggio e bevanda | AC10: Preparare pane tostato e bevanda calda istantanea o filtrata | AI10: Indossare una camicia o blusa | AJ10: {=_xlfn.TOROW(_xlfn.UNIQUE(_xlfn._xlws.FILTER(Table1[Motor challenge],Table1[Task]=AI10,"FutureTask")))} -> Poco sotto la media | AK10: {=_xlfn.TOROW(_xlfn.UNIQUE(_xlfn._xlws.FILTER(Table1[Process challenge],Table1[Task]=AI10,"FutureTask")))} -> Sotto la media | AL10: -2 | AM10: -8
B11: ADL personali | C11: Vestirsi | D11: Vestire la parte superiore e inferiore del corpo | E11: Nella media | F11: Poco sotto la media | O11: Pour beverage | P11: {=_xlfn.ANCHORARRAY(_xlfn.XLOOKUP(O11,TaskFullList,ProcessChallenge))} -> #N/A | Y11: Uova | Z11: {=_xlfn.TOROW(_xlfn.UNIQUE(_xlfn._xlws.FILTER(Table1[Task],Table1[Subgroup]=Y11,"FutureTask")))} -> Preparare uova alla coque servite nei portauova | AA11: Preparare uova, carne/pane tostato e caffè o un’altra bevanda | AB11: Preparare un’omelette spagnola | AI11: Indossare un indumento con cerniera frontale | AJ11: {=_xlfn.TOROW(_xlfn.UNIQUE(_xlfn._xlws.FILTER(Table1[Motor challenge],Table1[Task]=AI11,"FutureTask")))} -> Poco sotto la media | AK11: {=_xlfn.TOROW(_xlfn.UNIQUE(_xlfn._xlws.FILTER(Table1[Process challenge],Table1[Task]=AI11,"FutureTask")))} -> Sotto la media | AL11: -2 | AM11: -8
B12: ADL personali | C12: Cura personale e vestirsi | D12: Cura personale e vestirsi parte superiore e inferiore del corpo | E12: Nella media | F12: Nella media | Y12: Toast alla francese e pancake | Z12: {=_xlfn.TOROW(_xlfn.UNIQUE(_xlfn._xlws.FILTER(Table1[Task],Table1[Subgroup]=Y12,"FutureTask")))} -> Preparare toast alla francese e bevanda | AA12: Preparare pancake in stile americano e bevanda | AB12: Preparare pancake in stile europeo e bevanda | AI12: Vestire la parte superiore e inferiore del corpo | AJ12: {=_xlfn.TOROW(_xlfn.UNIQUE(_xlfn._xlws.FILTER(Table1[Motor challenge],Table1[Task]=AI12,"FutureTask")))} -> Nella media | AK12: {=_xlfn.TOROW(_xlfn.UNIQUE(_xlfn._xlws.FILTER(Table1[Process challenge],Table1[Task]=AI12,"FutureTask")))} -> Poco sotto la media | AL12: 0 | AM12: -4
B13: ADL personali | C13: Mangiare uno spuntino o un pasto | D13: Mangiare uno spuntino – con/senza bevanda | E13: Molto sotto la media | F13: Molto sotto la media | Y13: Insalate | Z13: {=_xlfn.TOROW(_xlfn.UNIQUE(_xlfn._xlws.FILTER(Table1[Task],Table1[Subgroup]=Y13,"FutureTask")))} -> Preparare un’insalata di fiocchi di latte e frutta in scatola | AA13: Preparare una macedonia di frutta fresca | AB13: Preparare un’insalata verde | AI13: Cura personale e vestirsi parte superiore e inferiore del corpo | AJ13: {=_xlfn.TOROW(_xlfn.UNIQUE(_xlfn._xlws.FILTER(Table1[Motor challenge],Table1[Task]=AI13,"FutureTask")))} -> Nella media | AK13: {=_xlfn.TOROW(_xlfn.UNIQUE(_xlfn._xlws.FILTER(Table1[Process challenge],Table1[Task]=AI13,"FutureTask")))} -> Nella media | AL13: 0 | AM13: 0
B14: ADL personali | C14: Mangiare uno spuntino o un pasto | D14: Mangiare un pasto con bevanda – con posate o bacchette | E14: Sotto la media | F14: Sotto la media | Y14: Zuppe | Z14: {=_xlfn.TOROW(_xlfn.UNIQUE(_xlfn._xlws.FILTER(Table1[Task],Table1[Subgroup]=Y14,"FutureTask")))} -> Preparare una zuppa di miso | AA14: Preparare il gazpacho | AB14: Preparare una zuppa di verdure | AI14: Mangiare uno spuntino – con/senza bevanda | AJ14: {=_xlfn.TOROW(_xlfn.UNIQUE(_xlfn._xlws.FILTER(Table1[Motor challenge],Table1[Task]=AI14,"FutureTask")))} -> Molto sotto la media | AK14: {=_xlfn.TOROW(_xlfn.UNIQUE(_xlfn._xlws.FILTER(Table1[Process challenge],Table1[Task]=AI14,"FutureTask")))} -> Molto sotto la media | AL14: -6 | AM14: -12
B15: Bevande e colazioni | C15: Bevande con/senza spuntino | D15: Versare una bevanda | E15: Poco sotto la media | F15: Sotto la media | I15: Satisfaction | Y15: Panini – aperti o chiusi | Z15: {=_xlfn.TOROW(_xlfn.UNIQUE(_xlfn._xlws.FILTER(Table1[Task],Table1[Subgroup]=Y15,"FutureTask")))} -> Preparare un panino con uno o due ingredienti spalmabili | AA15: Preparare un panino con carne/formaggio | AB15: Preparare un panino con insalata di tonno, pollo o granchio | AC15: Preparare un panino al formaggio grigliato e bevanda | AD15: Preparare un panino aperto e una bevanda filtrata | AI15: Mangiare un pasto con bevanda – con posate o bacchette | AJ15: {=_xlfn.TOROW(_xlfn.UNIQUE(_xlfn._xlws.FILTER(Table1[Motor challenge],Table1[Task]=AI15,"FutureTask")))} -> Sotto la media | AK15: {=_xlfn.TOROW(_xlfn.UNIQUE(_xlfn._xlws.FILTER(Table1[Process challenge],Table1[Task]=AI15,"FutureTask")))} -> Sotto la media | AL15: -4 | AM15: -8
B16: Bevande e colazioni | C16: Bevande con/senza spuntino | D16: Preparare una bevanda calda o fredda | E16: Poco sotto la media | F16: Poco sotto la media | I16: Non riportato | Y16: Piatti pronti da riscaldare | Z16: {=_xlfn.TOROW(_xlfn.UNIQUE(_xlfn._xlws.FILTER(Table1[Task],Table1[Subgroup]=Y16,"FutureTask")))} -> Preparare un pasto istantaneo da una confezione | AA16: Riscaldare cibo surgelato o precotto nel microonde | AB16: Preparare un piatto pronto in scatola con pane tostato o cracker | AI16: Versare una bevanda | AJ16: {=_xlfn.TOROW(_xlfn.UNIQUE(_xlfn._xlws.FILTER(Table1[Motor challenge],Table1[Task]=AI16,"FutureTask")))} -> Poco sotto la media | AK16: {=_xlfn.TOROW(_xlfn.UNIQUE(_xlfn._xlws.FILTER(Table1[Process challenge],Table1[Task]=AI16,"FutureTask")))} -> Sotto la media | AL16: -2 | AM16: -8
B17: Bevande e colazioni | C17: Bevande con/senza spuntino | D17: Preparare una caffettiera o una teiera di bevanda calda | E17: Nella media | F17: Nella media | I17: Soddisfatto | Y17: Piatti di pasta o di riso | Z17: {=_xlfn.TOROW(_xlfn.UNIQUE(_xlfn._xlws.FILTER(Table1[Task],Table1[Subgroup]=Y17,"FutureTask")))} -> Preparare la pasta con sugo "pronto" e bevanda | AA17: Preparare la pasta con sugo di carne/insalata e bevanda | AB17: Preparare riso, zuppa e un contorno | AC17: Preparare riso fritto | AD17: Preparare piatto/i asiatico/i con una ciotola di riso | AI17: Preparare una bevanda calda o fredda | AJ17: {=_xlfn.TOROW(_xlfn.UNIQUE(_xlfn._xlws.FILTER(Table1[Motor challenge],Table1[Task]=AI17,"FutureTask")))} -> Poco sotto la media | AK17: {=_xlfn.TOROW(_xlfn.UNIQUE(_xlfn._xlws.FILTER(Table1[Process challenge],Table1[Task]=AI17,"FutureTask")))} -> Poco sotto la media | AL17: -2 | AM17: -4
B18: Bevande e colazioni | C18: Bevande con/senza spuntino | D18: Preparare un caffè espresso con la caffettiera | E18: Nella media | F18: Nella media | I18: Lievemente insoddisfatto | Y18: Polpette | Z18: {=_xlfn.TOROW(_xlfn.UNIQUE(_xlfn._xlws.FILTER(Table1[Task],Table1[Subgroup]=Y18,"FutureTask")))} -> Preparare le polpette, i contorni e bevanda | AI18: Preparare una caffettiera o una teiera di bevanda calda | AJ18: {=_xlfn.TOROW(_xlfn.UNIQUE(_xlfn._xlws.FILTER(Table1[Motor challenge],Table1[Task]=AI18,"FutureTask")))} -> Nella media | AK18: {=_xlfn.TOROW(_xlfn.UNIQUE(_xlfn._xlws.FILTER(Table1[Process challenge],Table1[Task]=AI18,"FutureTask")))} -> Nella media | AL18: 0 | AM18: 0
B19: Bevande e colazioni | C19: Bevande con/senza spuntino | D19: Preparare il mate | E19: Nella media | F19: Nella media | I19: Moderatamente insoddisfatto | Y19: Preparazione del cibo e cottura al forno | Z19: {=_xlfn.TOROW(_xlfn.UNIQUE(_xlfn._xlws.FILTER(Table1[Task],Table1[Subgroup]=Y19,"FutureTask")))} -> Preparare verdure da usare o consumare più tardi | AA19: Preparare il sugo di pomodoro per la pasta | AB19: Preparare un pranzo al sacco | AC19: Preparare un pranzo nordico e apparecchiare la tavola | AD19: Preparare platani maturi fritti | AE19: Preparare platani verdi fritti (“tostones") | AF19: Cuocere una torta, muffins o brownie da un preparato | AG19: Preparare una pizza da un preparato secco per pizza | AI19: Preparare un caffè espresso con la caffettiera | AJ19: {=_xlfn.TOROW(_xlfn.UNIQUE(_xlfn._xlws.FILTER(Table1[Motor challenge],Table1[Task]=AI19,"FutureTask")))} -> Nella media | AK19: {=_xlfn.TOROW(_xlfn.UNIQUE(_xlfn._xlws.FILTER(Table1[Process challenge],Table1[Task]=AI19,"FutureTask")))} -> Nella media | AL19: 0 | AM19: 0
B20: Bevande e colazioni | C20: Bevande con/senza spuntino | D20: Preparare una teiera di bevanda filtrata servita con spuntino | E20: Nella media | F20: Nella media | I20: Marcatamente insoddisfatto | Y20: Grigliata all’aperto | Z20: {=_xlfn.TOROW(_xlfn.UNIQUE(_xlfn._xlws.FILTER(Table1[Task],Table1[Subgroup]=Y20,"FutureTask")))} -> Grigliare carne/verdure su una griglia a gas all’aperto | AA20: Grigliare carne/verdure su una griglia a carbonella o a legna | AI20: Preparare il mate | AJ20: {=_xlfn.TOROW(_xlfn.UNIQUE(_xlfn._xlws.FILTER(Table1[Motor challenge],Table1[Task]=AI20,"FutureTask")))} -> Nella media | AK20: {=_xlfn.TOROW(_xlfn.UNIQUE(_xlfn._xlws.FILTER(Table1[Process challenge],Table1[Task]=AI20,"FutureTask")))} -> Nella media | AL20: 0 | AM20: 0
B21: Bevande e colazioni | C21: Cereali o pane tostato con bevanda | D21: Preparare cereali freddi con latte/yogurt e bevanda | E21: Nella media | F21: Poco sotto la media | Y21: Pulizia del pavimento | Z21: {=_xlfn.TOROW(_xlfn.UNIQUE(_xlfn._xlws.FILTER(Table1[Task],Table1[Subgroup]=Y21,"FutureTask")))} -> Spazzare il pavimento | AA21: Pulire il pavimento con mocio asciutto o umido a spruzzo | AB21: Lavare il pavimento con mocio bagnato | AC21: Passare l’aspirapolvere | AD21: Passare l’aspirapolvere in due stanze su livelli diversi | AI21: Preparare una teiera di bevanda filtrata servita con spuntino | AJ21: {=_xlfn.TOROW(_xlfn.UNIQUE(_xlfn._xlws.FILTER(Table1[Motor challenge],Table1[Task]=AI21,"FutureTask")))} -> Nella media | AK21: {=_xlfn.TOROW(_xlfn.UNIQUE(_xlfn._xlws.FILTER(Table1[Process challenge],Table1[Task]=AI21,"FutureTask")))} -> Nella media | AL21: 0 | AM21: 0
B22: Bevande e colazioni | C22: Cereali o pane tostato con bevanda | D22: Preparare cereali cotti e bevanda | E22: Nella media | F22: Poco sopra la media | Y22: Pulizia del bagno | Z22: {=_xlfn.TOROW(_xlfn.UNIQUE(_xlfn._xlws.FILTER(Table1[Task],Table1[Subgroup]=Y22,"FutureTask")))} -> Pulire l’intero bagno | AI22: Preparare cereali freddi con latte/yogurt e bevanda | AJ22: {=_xlfn.TOROW(_xlfn.UNIQUE(_xlfn._xlws.FILTER(Table1[Motor challenge],Table1[Task]=AI22,"FutureTask")))} -> Nella media | AK22: {=_xlfn.TOROW(_xlfn.UNIQUE(_xlfn._xlws.FILTER(Table1[Process challenge],Table1[Task]=AI22,"FutureTask")))} -> Poco sotto la media | AL22: 0 | AM22: -4
B23: Bevande e colazioni | C23: Cereali o pane tostato con bevanda | D23: Preparare cereali cotti, un panino al formaggio e bevanda | E23: Nella media | F23: Poco sopra la media | R23: Table4 | Y23: Lavaggio delle finestre | Z23: {=_xlfn.TOROW(_xlfn.UNIQUE(_xlfn._xlws.FILTER(Table1[Task],Table1[Subgroup]=Y23,"FutureTask")))} -> Lavare l’interno delle finestre | AI23: Preparare cereali cotti e bevanda | AJ23: {=_xlfn.TOROW(_xlfn.UNIQUE(_xlfn._xlws.FILTER(Table1[Motor challenge],Table1[Task]=AI23,"FutureTask")))} -> Nella media | AK23: {=_xlfn.TOROW(_xlfn.UNIQUE(_xlfn._xlws.FILTER(Table1[Process challenge],Table1[Task]=AI23,"FutureTask")))} -> Poco sopra la media | AL23: 0 | AM23: 4
B24: Bevande e colazioni | C24: Cereali o pane tostato con bevanda | D24: Preparare pane tostato e bevanda calda istantanea o filtrata | E24: Nella media | F24: Poco sopra la media | O24: Rating | P24: Score | R24: Mscale | S24: Minterp | Y24: Bucato | Z24: {=_xlfn.TOROW(_xlfn.UNIQUE(_xlfn._xlws.FILTER(Table1[Task],Table1[Subgroup]=Y24,"FutureTask")))} -> Piegare la biancheria | AA24: Caricare e avviare la lavatrice | AB24: Lavare il bucato a mano | AC24: Stendere il bucato ad asciugare | AD24: Stirare una camicia o blusa – asse già pronta | AE24: Stirare camicia o blusa – allestire l’asse | AF24: Stirare e riporre tre capi | AI24: Preparare cereali cotti, un panino al formaggio e bevanda | AJ24: {=_xlfn.TOROW(_xlfn.UNIQUE(_xlfn._xlws.FILTER(Table1[Motor challenge],Table1[Task]=AI24,"FutureTask")))} -> Nella media | AK24: {=_xlfn.TOROW(_xlfn.UNIQUE(_xlfn._xlws.FILTER(Table1[Process challenge],Table1[Task]=AI24,"FutureTask")))} -> Poco sopra la media | AL24: 0 | AM24: 4
B25: Bevande e colazioni | C25: Uova | D25: Preparare uova alla coque servite nei portauova | E25: Nella media | F25: Nella media | O25: Nessuno | P25: 4 | R25: 0 | S25: Realizza compiti ADL con sforzo eccessivo | Y25: Apparecchiare il tavolo | Z25: {=_xlfn.TOROW(_xlfn.UNIQUE(_xlfn._xlws.FILTER(Table1[Task],Table1[Subgroup]=Y25,"FutureTask")))} -> Apparecchiare il tavola – stile standard | AA25: Apparecchiare il tavola – stile svedese | AI25: Preparare pane tostato e bevanda calda istantanea o filtrata | AJ25: {=_xlfn.TOROW(_xlfn.UNIQUE(_xlfn._xlws.FILTER(Table1[Motor challenge],Table1[Task]=AI25,"FutureTask")))} -> Nella media | AK25: {=_xlfn.TOROW(_xlfn.UNIQUE(_xlfn._xlws.FILTER(Table1[Process challenge],Table1[Task]=AI25,"FutureTask")))} -> Poco sopra la media | AL25: 0 | AM25: 4
B26: Bevande e colazioni | C26: Uova | D26: Preparare uova, carne/pane tostato e caffè o un’altra bevanda | E26: Nella media | F26: Poco sopra la media | O26: Lieve | P26: 2 | R26: 77 | S26: Compiti ADL realizzati con lieve goffaggine | Y26: Lavare e/o riporre i piatti | Z26: {=_xlfn.TOROW(_xlfn.UNIQUE(_xlfn._xlws.FILTER(Table1[Task],Table1[Subgroup]=Y26,"FutureTask")))} -> Lavare i piatti a mano | AA26: Lavare i piatti a mano e riporli | AB26: Svuotare la lavastoviglie e riporre i piatti | AI26: Preparare uova alla coque servite nei portauova | AJ26: {=_xlfn.TOROW(_xlfn.UNIQUE(_xlfn._xlws.FILTER(Table1[Motor challenge],Table1[Task]=AI26,"FutureTask")))} -> Nella media | AK26: {=_xlfn.TOROW(_xlfn.UNIQUE(_xlfn._xlws.FILTER(Table1[Process challenge],Table1[Task]=AI26,"FutureTask")))} -> Nella media | AL26: 0 | AM26: 0
B27: Bevande e colazioni | C27: Uova | D27: Preparare un’omelette spagnola | E27: Poco sopra la media | F27: Sopra la media | O27: Moderato | P27: 2 | R27: 84 | S27: Compiti ADL realizzati con facilità | Y27: Dare da mangiare agli animali domestici e cambiare l’acqua | Z27: {=_xlfn.TOROW(_xlfn.UNIQUE(_xlfn._xlws.FILTER(Table1[Task],Table1[Subgroup]=Y27,"FutureTask")))} -> Dare cibo secco al cane o al gatto e cambiare l’acqua | AA27: Dare cibo umido al cane o al gatto e cambiare l’acqua | AI27: Preparare uova, carne/pane tostato e caffè o un’altra bevanda | AJ27: {=_xlfn.TOROW(_xlfn.UNIQUE(_xlfn._xlws.FILTER(Table1[Motor challenge],Table1[Task]=AI27,"FutureTask")))} -> Nella media | AK27: {=_xlfn.TOROW(_xlfn.UNIQUE(_xlfn._xlws.FILTER(Table1[Process challenge],Table1[Task]=AI27,"FutureTask")))} -> Poco sopra la media | AL27: 0 | AM27: 4
B28: Bevande e colazioni | C28: Toast alla francese e pancake | D28: Preparare toast alla francese e bevanda | E28: Nella media | F28: Poco sopra la media | O28: Marcato | P28: 1 | Y28: Compiti relativi al letto | Z28: {=_xlfn.TOROW(_xlfn.UNIQUE(_xlfn._xlws.FILTER(Table1[Task],Table1[Subgroup]=Y28,"FutureTask")))} -> Stendere la biancheria da letto sul pavimento – stile giapponese | AA28: Rifare il letto | AB28: Cambiare le lenzuola del letto | AI28: Preparare un’omelette spagnola | AJ28: {=_xlfn.TOROW(_xlfn.UNIQUE(_xlfn._xlws.FILTER(Table1[Motor challenge],Table1[Task]=AI28,"FutureTask")))} -> Poco sopra la media | AK28: {=_xlfn.TOROW(_xlfn.UNIQUE(_xlfn._xlws.FILTER(Table1[Process challenge],Table1[Task]=AI28,"FutureTask")))} -> Sopra la media | AL28: 2 | AM28: 8
B29: Bevande e colazioni | C29: Toast alla francese e pancake | D29: Preparare pancake in stile americano e bevanda | E29: Nella media | F29: Sopra la media | Y29: Cura delle piante | Z29: {=_xlfn.TOROW(_xlfn.UNIQUE(_xlfn._xlws.FILTER(Table1[Task],Table1[Subgroup]=Y29,"FutureTask")))} -> Annaffiare le piante da interno e togliere le foglie secche | AA29: Rinvasare una piccola pianta da interno | AI29: Preparare toast alla francese e bevanda | AJ29: {=_xlfn.TOROW(_xlfn.UNIQUE(_xlfn._xlws.FILTER(Table1[Motor challenge],Table1[Task]=AI29,"FutureTask")))} -> Nella media | AK29: {=_xlfn.TOROW(_xlfn.UNIQUE(_xlfn._xlws.FILTER(Table1[Process challenge],Table1[Task]=AI29,"FutureTask")))} -> Poco sopra la media | AL29: 0 | AM29: 4
B30: Bevande e colazioni | C30: Toast alla francese e pancake | D30: Preparare pancake in stile europeo e bevanda | E30: Poco sopra la media | F30: Sopra la media | R30: Table5 | Y30: Manutenzione all’esterno | Z30: {=_xlfn.TOROW(_xlfn.UNIQUE(_xlfn._xlws.FILTER(Table1[Task],Table1[Subgroup]=Y30,"FutureTask")))} -> Spazzare all’esterno – detriti o neve | AA30: Rastrellare o estirpare erbacce all’esterno | AB30: Riparare una foratura della camera d’aria della bicicletta | AC30: Pulire l’interno dell’auto | AD30: Lavare l’auto | AI30: Preparare pancake in stile americano e bevanda | AJ30: {=_xlfn.TOROW(_xlfn.UNIQUE(_xlfn._xlws.FILTER(Table1[Motor challenge],Table1[Task]=AI30,"FutureTask")))} -> Nella media | AK30: {=_xlfn.TOROW(_xlfn.UNIQUE(_xlfn._xlws.FILTER(Table1[Process challenge],Table1[Task]=AI30,"FutureTask")))} -> Sopra la media | AL30: 0 | AM30: 8
B31: Insalate, zuppe e panini | C31: Insalate | D31: Preparare un’insalata di fiocchi di latte e frutta in scatola | E31: Nella media | F31: Nella media | R31: Pscale | S31: Pinterp | Y31: Fare la spesa | Z31: {=_xlfn.TOROW(_xlfn.UNIQUE(_xlfn._xlws.FILTER(Table1[Task],Table1[Subgroup]=Y31,"FutureTask")))} -> Fare la spesa – da quattro a sei articoli | AI31: Preparare pancake in stile europeo e bevanda | AJ31: {=_xlfn.TOROW(_xlfn.UNIQUE(_xlfn._xlws.FILTER(Table1[Motor challenge],Table1[Task]=AI31,"FutureTask")))} -> Poco sopra la media | AK31: {=_xlfn.TOROW(_xlfn.UNIQUE(_xlfn._xlws.FILTER(Table1[Process challenge],Table1[Task]=AI31,"FutureTask")))} -> Sopra la media | AL31: 2 | AM31: 8
B32: Insalate, zuppe e panini | C32: Insalate | D32: Preparare una macedonia di frutta fresca | E32: Nella media | F32: Poco sopra la media | R32: 0 | S32: La performance ADL è inefficace | AI32: Preparare un’insalata di fiocchi di latte e frutta in scatola | AJ32: {=_xlfn.TOROW(_xlfn.UNIQUE(_xlfn._xlws.FILTER(Table1[Motor challenge],Table1[Task]=AI32,"FutureTask")))} -> Nella media | AK32: {=_xlfn.TOROW(_xlfn.UNIQUE(_xlfn._xlws.FILTER(Table1[Process challenge],Table1[Task]=AI32,"FutureTask")))} -> Nella media | AL32: 0 | AM32: 0
B33: Insalate, zuppe e panini | C33: Insalate | D33: Preparare un’insalata verde | E33: Nella media | F33: Poco sopra la media | R33: 58 | S33: La performance potrebbe essere inefficace | AI33: Preparare una macedonia di frutta fresca | AJ33: {=_xlfn.TOROW(_xlfn.UNIQUE(_xlfn._xlws.FILTER(Table1[Motor challenge],Table1[Task]=AI33,"FutureTask")))} -> Nella media | AK33: {=_xlfn.TOROW(_xlfn.UNIQUE(_xlfn._xlws.FILTER(Table1[Process challenge],Table1[Task]=AI33,"FutureTask")))} -> Poco sopra la media | AL33: 0 | AM33: 4
B34: Insalate, zuppe e panini | C34: Zuppe | D34: Preparare una zuppa di miso | E34: Poco sopra la media | F34: Poco sopra la media | R34: 71 | S34: La performance ADL è efficace | AI34: Preparare un’insalata verde | AJ34: {=_xlfn.TOROW(_xlfn.UNIQUE(_xlfn._xlws.FILTER(Table1[Motor challenge],Table1[Task]=AI34,"FutureTask")))} -> Nella media | AK34: {=_xlfn.TOROW(_xlfn.UNIQUE(_xlfn._xlws.FILTER(Table1[Process challenge],Table1[Task]=AI34,"FutureTask")))} -> Poco sopra la media | AL34: 0 | AM34: 4
B35: Insalate, zuppe e panini | C35: Zuppe | D35: Preparare il gazpacho | E35: Poco sopra la media | F35: Poco sopra la media | AI35: Preparare una zuppa di miso | AJ35: {=_xlfn.TOROW(_xlfn.UNIQUE(_xlfn._xlws.FILTER(Table1[Motor challenge],Table1[Task]=AI35,"FutureTask")))} -> Poco sopra la media | AK35: {=_xlfn.TOROW(_xlfn.UNIQUE(_xlfn._xlws.FILTER(Table1[Process challenge],Table1[Task]=AI35,"FutureTask")))} -> Poco sopra la media | AL35: 2 | AM35: 4
B36: Insalate, zuppe e panini | C36: Zuppe | D36: Preparare una zuppa di verdure | E36: Poco sopra la media | F36: Sopra la media | AI36: Preparare il gazpacho | AJ36: {=_xlfn.TOROW(_xlfn.UNIQUE(_xlfn._xlws.FILTER(Table1[Motor challenge],Table1[Task]=AI36,"FutureTask")))} -> Poco sopra la media | AK36: {=_xlfn.TOROW(_xlfn.UNIQUE(_xlfn._xlws.FILTER(Table1[Process challenge],Table1[Task]=AI36,"FutureTask")))} -> Poco sopra la media | AL36: 2 | AM36: 4
B37: Insalate, zuppe e panini | C37: Panini – aperti o chiusi | D37: Preparare un panino con uno o due ingredienti spalmabili | E37: Nella media | F37: Nella media | P37: Table2 | AI37: Preparare una zuppa di verdure | AJ37: {=_xlfn.TOROW(_xlfn.UNIQUE(_xlfn._xlws.FILTER(Table1[Motor challenge],Table1[Task]=AI37,"FutureTask")))} -> Poco sopra la media | AK37: {=_xlfn.TOROW(_xlfn.UNIQUE(_xlfn._xlws.FILTER(Table1[Process challenge],Table1[Task]=AI37,"FutureTask")))} -> Sopra la media | AL37: 2 | AM37: 8
B38: Insalate, zuppe e panini | C38: Panini – aperti o chiusi | D38: Preparare un panino con carne/formaggio | E38: Nella media | F38: Nella media | P38: AgeMin | Q38: AgeMax | R38: MotorM | S38: MotorSD | T38: ProcessM | U38: ProcessSD | AI38: Preparare un panino con uno o due ingredienti spalmabili | AJ38: {=_xlfn.TOROW(_xlfn.UNIQUE(_xlfn._xlws.FILTER(Table1[Motor challenge],Table1[Task]=AI38,"FutureTask")))} -> Nella media | AK38: {=_xlfn.TOROW(_xlfn.UNIQUE(_xlfn._xlws.FILTER(Table1[Process challenge],Table1[Task]=AI38,"FutureTask")))} -> Nella media | AL38: 0 | AM38: 0
B39: Insalate, zuppe e panini | C39: Panini – aperti o chiusi | D39: Preparare un panino con insalata di tonno, pollo o granchio | E39: Nella media | F39: Poco sopra la media | P39: 2 | Q39: 2 | R39: 49 | S39: 11 | T39: 33 | U39: 11 | AI39: Preparare un panino con carne/formaggio | AJ39: {=_xlfn.TOROW(_xlfn.UNIQUE(_xlfn._xlws.FILTER(Table1[Motor challenge],Table1[Task]=AI39,"FutureTask")))} -> Nella media | AK39: {=_xlfn.TOROW(_xlfn.UNIQUE(_xlfn._xlws.FILTER(Table1[Process challenge],Table1[Task]=AI39,"FutureTask")))} -> Nella media | AL39: 0 | AM39: 0
B40: Insalate, zuppe e panini | C40: Panini – aperti o chiusi | D40: Preparare un panino al formaggio grigliato e bevanda | E40: Nella media | F40: Poco sopra la media | P40: 3 | Q40: 3 | R40: 58 | S40: 9 | T40: 42 | U40: 9 | AI40: Preparare un panino con insalata di tonno, pollo o granchio | AJ40: {=_xlfn.TOROW(_xlfn.UNIQUE(_xlfn._xlws.FILTER(Table1[Motor challenge],Table1[Task]=AI40,"FutureTask")))} -> Nella media | AK40: {=_xlfn.TOROW(_xlfn.UNIQUE(_xlfn._xlws.FILTER(Table1[Process challenge],Table1[Task]=AI40,"FutureTask")))} -> Poco sopra la media | AL40: 0 | AM40: 4
B41: Insalate, zuppe e panini | C41: Panini – aperti o chiusi | D41: Preparare un panino aperto e una bevanda filtrata | E41: Nella media | F41: Poco sopra la media | P41: 4 | Q41: 4 | R41: 63 | S41: 9 | T41: 49 | U41: 9 | AI41: Preparare un panino al formaggio grigliato e bevanda | AJ41: {=_xlfn.TOROW(_xlfn.UNIQUE(_xlfn._xlws.FILTER(Table1[Motor challenge],Table1[Task]=AI41,"FutureTask")))} -> Nella media | AK41: {=_xlfn.TOROW(_xlfn.UNIQUE(_xlfn._xlws.FILTER(Table1[Process challenge],Table1[Task]=AI41,"FutureTask")))} -> Poco sopra la media | AL41: 0 | AM41: 4
B42: Altri piatti e preparazioni di cibo | C42: Piatti pronti da riscaldare | D42: Preparare un pasto istantaneo da una confezione | E42: Nella media | F42: Nella media | P42: 5 | Q42: 5 | R42: 65 | S42: 9 | T42: 51 | U42: 9 | AI42: Preparare un panino aperto e una bevanda filtrata | AJ42: {=_xlfn.TOROW(_xlfn.UNIQUE(_xlfn._xlws.FILTER(Table1[Motor challenge],Table1[Task]=AI42,"FutureTask")))} -> Nella media | AK42: {=_xlfn.TOROW(_xlfn.UNIQUE(_xlfn._xlws.FILTER(Table1[Process challenge],Table1[Task]=AI42,"FutureTask")))} -> Poco sopra la media | AL42: 0 | AM42: 4
B43: Altri piatti e preparazioni di cibo | C43: Piatti pronti da riscaldare | D43: Riscaldare cibo surgelato o precotto nel microonde | E43: Nella media | F43: Nella media | P43: 6 | Q43: 6 | R43: 70 | S43: 9 | T43: 54 | U43: 9 | AI43: Preparare un pasto istantaneo da una confezione | AJ43: {=_xlfn.TOROW(_xlfn.UNIQUE(_xlfn._xlws.FILTER(Table1[Motor challenge],Table1[Task]=AI43,"FutureTask")))} -> Nella media | AK43: {=_xlfn.TOROW(_xlfn.UNIQUE(_xlfn._xlws.FILTER(Table1[Process challenge],Table1[Task]=AI43,"FutureTask")))} -> Nella media | AL43: 0 | AM43: 0
B44: Altri piatti e preparazioni di cibo | C44: Piatti pronti da riscaldare | D44: Preparare un piatto pronto in scatola con pane tostato o cracker | E44: Nella media | F44: Poco sopra la media | P44: 7 | Q44: 7 | R44: 72 | S44: 9 | T44: 58 | U44: 9 | AI44: Riscaldare cibo surgelato o precotto nel microonde | AJ44: {=_xlfn.TOROW(_xlfn.UNIQUE(_xlfn._xlws.FILTER(Table1[Motor challenge],Table1[Task]=AI44,"FutureTask")))} -> Nella media | AK44: {=_xlfn.TOROW(_xlfn.UNIQUE(_xlfn._xlws.FILTER(Table1[Process challenge],Table1[Task]=AI44,"FutureTask")))} -> Nella media | AL44: 0 | AM44: 0
B45: Altri piatti e preparazioni di cibo | C45: Piatti di pasta o di riso | D45: Preparare la pasta con sugo "pronto" e bevanda | E45: Nella media | F45: Poco sopra la media | P45: 8 | Q45: 8 | R45: 72 | S45: 9 | T45: 61 | U45: 9 | AI45: Preparare un piatto pronto in scatola con pane tostato o cracker | AJ45: {=_xlfn.TOROW(_xlfn.UNIQUE(_xlfn._xlws.FILTER(Table1[Motor challenge],Table1[Task]=AI45,"FutureTask")))} -> Nella media | AK45: {=_xlfn.TOROW(_xlfn.UNIQUE(_xlfn._xlws.FILTER(Table1[Process challenge],Table1[Task]=AI45,"FutureTask")))} -> Poco sopra la media | AL45: 0 | AM45: 4
B46: Altri piatti e preparazioni di cibo | C46: Piatti di pasta o di riso | D46: Preparare la pasta con sugo di carne/insalata e bevanda | E46: Poco sopra la media | F46: Sopra la media | P46: 9 | Q46: 9 | R46: 77 | S46: 9 | T46: 63 | U46: 9 | AI46: Preparare la pasta con sugo "pronto" e bevanda | AJ46: {=_xlfn.TOROW(_xlfn.UNIQUE(_xlfn._xlws.FILTER(Table1[Motor challenge],Table1[Task]=AI46,"FutureTask")))} -> Nella media | AK46: {=_xlfn.TOROW(_xlfn.UNIQUE(_xlfn._xlws.FILTER(Table1[Process challenge],Table1[Task]=AI46,"FutureTask")))} -> Poco sopra la media | AL46: 0 | AM46: 4
B47: Altri piatti e preparazioni di cibo | C47: Piatti di pasta o di riso | D47: Preparare riso, zuppa e un contorno | E47: Poco sopra la media | F47: Poco sopra la media | P47: 10 | Q47: 10 | R47: 77 | S47: 9 | T47: 63 | U47: 9 | AI47: Preparare la pasta con sugo di carne/insalata e bevanda | AJ47: {=_xlfn.TOROW(_xlfn.UNIQUE(_xlfn._xlws.FILTER(Table1[Motor challenge],Table1[Task]=AI47,"FutureTask")))} -> Poco sopra la media | AK47: {=_xlfn.TOROW(_xlfn.UNIQUE(_xlfn._xlws.FILTER(Table1[Process challenge],Table1[Task]=AI47,"FutureTask")))} -> Sopra la media | AL47: 2 | AM47: 8
B48: Altri piatti e preparazioni di cibo | C48: Piatti di pasta o di riso | D48: Preparare riso fritto | E48: Poco sopra la media | F48: Sopra la media | P48: 11 | Q48: 11 | R48: 81 | S48: 9 | T48: 65 | U48: 9 | AI48: Preparare riso, zuppa e un contorno | AJ48: {=_xlfn.TOROW(_xlfn.UNIQUE(_xlfn._xlws.FILTER(Table1[Motor challenge],Table1[Task]=AI48,"FutureTask")))} -> Poco sopra la media | AK48: {=_xlfn.TOROW(_xlfn.UNIQUE(_xlfn._xlws.FILTER(Table1[Process challenge],Table1[Task]=AI48,"FutureTask")))} -> Poco sopra la media | AL48: 2 | AM48: 4
B49: Altri piatti e preparazioni di cibo | C49: Piatti di pasta o di riso | D49: Preparare piatto/i asiatico/i con una ciotola di riso | E49: Poco sopra la media | F49: Sopra la media | P49: 12 | Q49: 12 | R49: 83 | S49: 9 | T49: 67 | U49: 9 | AI49: Preparare riso fritto | AJ49: {=_xlfn.TOROW(_xlfn.UNIQUE(_xlfn._xlws.FILTER(Table1[Motor challenge],Table1[Task]=AI49,"FutureTask")))} -> Poco sopra la media | AK49: {=_xlfn.TOROW(_xlfn.UNIQUE(_xlfn._xlws.FILTER(Table1[Process challenge],Table1[Task]=AI49,"FutureTask")))} -> Sopra la media | AL49: 2 | AM49: 8
B50: Altri piatti e preparazioni di cibo | C50: Polpette | D50: Preparare le polpette, i contorni e bevanda | E50: Sopra la media | F50: Sopra la media | P50: 13 | Q50: 13 | R50: 83 | S50: 9 | T50: 70 | U50: 9 | AI50: Preparare piatto/i asiatico/i con una ciotola di riso | AJ50: {=_xlfn.TOROW(_xlfn.UNIQUE(_xlfn._xlws.FILTER(Table1[Motor challenge],Table1[Task]=AI50,"FutureTask")))} -> Poco sopra la media | AK50: {=_xlfn.TOROW(_xlfn.UNIQUE(_xlfn._xlws.FILTER(Table1[Process challenge],Table1[Task]=AI50,"FutureTask")))} -> Sopra la media | AL50: 2 | AM50: 8
... B63: Pulizia e bucato | C63: Pulizia del pavimento | D63: Passare l’aspirapolvere | E63: Poco sopra la media | F63: Nella media | P63: 85 | Q63: 110 | R63: 77 | S63: 9 | T63: 72 | U63: 9 | AI63: Lavare il pavimento con mocio bagnato | AJ63: {=_xlfn.TOROW(_xlfn.UNIQUE(_xlfn._xlws.FILTER(Table1[Motor challenge],Table1[Task]=AI63,"FutureTask")))} -> Poco sopra la media | AK63: {=_xlfn.TOROW(_xlfn.UNIQUE(_xlfn._xlws.FILTER(Table1[Process challenge],Table1[Task]=AI63,"FutureTask")))} -> Nella media | AL63: 2 | AM63: 0
B64: Pulizia e bucato | C64: Pulizia del pavimento | D64: Passare l’aspirapolvere in due stanze su livelli diversi | E64: Sopra la media | F64: Poco sopra la media | AI64: Passare l’aspirapolvere | AJ64: {=_xlfn.TOROW(_xlfn.UNIQUE(_xlfn._xlws.FILTER(Table1[Motor challenge],Table1[Task]=AI64,"FutureTask")))} -> Poco sopra la media | AK64: {=_xlfn.TOROW(_xlfn.UNIQUE(_xlfn._xlws.FILTER(Table1[Process challenge],Table1[Task]=AI64,"FutureTask")))} -> Nella media | AL64: 2 | AM64: 0
B65: Pulizia e bucato | C65: Pulizia del bagno | D65: Pulire l’intero bagno | E65: Poco sopra la media | F65: Poco sopra la media | AI65: Passare l’aspirapolvere in due stanze su livelli diversi | AJ65: {=_xlfn.TOROW(_xlfn.UNIQUE(_xlfn._xlws.FILTER(Table1[Motor challenge],Table1[Task]=AI65,"FutureTask")))} -> Sopra la media | AK65: {=_xlfn.TOROW(_xlfn.UNIQUE(_xlfn._xlws.FILTER(Table1[Process challenge],Table1[Task]=AI65,"FutureTask")))} -> Poco sopra la media | AL65: 4 | AM65: 4
B66: Pulizia e bucato | C66: Lavaggio delle finestre | D66: Lavare l’interno delle finestre | E66: Nella media | F66: Nella media | AI66: Pulire l’intero bagno | AJ66: {=_xlfn.TOROW(_xlfn.UNIQUE(_xlfn._xlws.FILTER(Table1[Motor challenge],Table1[Task]=AI66,"FutureTask")))} -> Poco sopra la media | AK66: {=_xlfn.TOROW(_xlfn.UNIQUE(_xlfn._xlws.FILTER(Table1[Process challenge],Table1[Task]=AI66,"FutureTask")))} -> Poco sopra la media | AL66: 2 | AM66: 4
B67: Pulizia e bucato | C67: Bucato | D67: Piegare la biancheria | E67: Poco sotto la media | F67: Poco sotto la media | AI67: Lavare l’interno delle finestre | AJ67: {=_xlfn.TOROW(_xlfn.UNIQUE(_xlfn._xlws.FILTER(Table1[Motor challenge],Table1[Task]=AI67,"FutureTask")))} -> Nella media | AK67: {=_xlfn.TOROW(_xlfn.UNIQUE(_xlfn._xlws.FILTER(Table1[Process challenge],Table1[Task]=AI67,"FutureTask")))} -> Nella media | AL67: 0 | AM67: 0
B68: Pulizia e bucato | C68: Bucato | D68: Caricare e avviare la lavatrice | E68: Poco sotto la media | F68: Poco sotto la media | AI68: Piegare la biancheria | AJ68: {=_xlfn.TOROW(_xlfn.UNIQUE(_xlfn._xlws.FILTER(Table1[Motor challenge],Table1[Task]=AI68,"FutureTask")))} -> Poco sotto la media | AK68: {=_xlfn.TOROW(_xlfn.UNIQUE(_xlfn._xlws.FILTER(Table1[Process challenge],Table1[Task]=AI68,"FutureTask")))} -> Poco sotto la media | AL68: -2 | AM68: -4
B69: Pulizia e bucato | C69: Bucato | D69: Lavare il bucato a mano | E69: Nella media | F69: Poco sotto la media | AI69: Caricare e avviare la lavatrice | AJ69: {=_xlfn.TOROW(_xlfn.UNIQUE(_xlfn._xlws.FILTER(Table1[Motor challenge],Table1[Task]=AI69,"FutureTask")))} -> Poco sotto la media | AK69: {=_xlfn.TOROW(_xlfn.UNIQUE(_xlfn._xlws.FILTER(Table1[Process challenge],Table1[Task]=AI69,"FutureTask")))} -> Poco sotto la media | AL69: -2 | AM69: -4
B70: Pulizia e bucato | C70: Bucato | D70: Stendere il bucato ad asciugare | E70: Nella media | F70: Poco sotto la media | AI70: Lavare il bucato a mano | AJ70: {=_xlfn.TOROW(_xlfn.UNIQUE(_xlfn._xlws.FILTER(Table1[Motor challenge],Table1[Task]=AI70,"FutureTask")))} -> Nella media | AK70: {=_xlfn.TOROW(_xlfn.UNIQUE(_xlfn._xlws.FILTER(Table1[Process challenge],Table1[Task]=AI70,"FutureTask")))} -> Poco sotto la media | AL70: 0 | AM70: -4
B71: Pulizia e bucato | C71: Bucato | D71: Stirare una camicia o blusa – asse già pronta | E71: Poco sotto la media | F71: Nella media | AI71: Stendere il bucato ad asciugare | AJ71: {=_xlfn.TOROW(_xlfn.UNIQUE(_xlfn._xlws.FILTER(Table1[Motor challenge],Table1[Task]=AI71,"FutureTask")))} -> Nella media | AK71: {=_xlfn.TOROW(_xlfn.UNIQUE(_xlfn._xlws.FILTER(Table1[Process challenge],Table1[Task]=AI71,"FutureTask")))} -> Poco sotto la media | AL71: 0 | AM71: -4
B72: Pulizia e bucato | C72: Bucato | D72: Stirare camicia o blusa – allestire l’asse | E72: Nella media | F72: Nella media | AI72: Stirare una camicia o blusa – asse già pronta | AJ72: {=_xlfn.TOROW(_xlfn.UNIQUE(_xlfn._xlws.FILTER(Table1[Motor challenge],Table1[Task]=AI72,"FutureTask")))} -> Poco sotto la media | AK72: {=_xlfn.TOROW(_xlfn.UNIQUE(_xlfn._xlws.FILTER(Table1[Process challenge],Table1[Task]=AI72,"FutureTask")))} -> Nella media | AL72: -2 | AM72: 0
B73: Pulizia e bucato | C73: Bucato | D73: Stirare e riporre tre capi | E73: Poco sopra la media | F73: Poco sopra la media | AI73: Stirare camicia o blusa – allestire l’asse | AJ73: {=_xlfn.TOROW(_xlfn.UNIQUE(_xlfn._xlws.FILTER(Table1[Motor challenge],Table1[Task]=AI73,"FutureTask")))} -> Nella media | AK73: {=_xlfn.TOROW(_xlfn.UNIQUE(_xlfn._xlws.FILTER(Table1[Process challenge],Table1[Task]=AI73,"FutureTask")))} -> Nella media | AL73: 0 | AM73: 0
B74: Altri compiti domestici di routine | C74: Apparecchiare il tavolo | D74: Apparecchiare il tavola – stile standard | E74: Poco sotto la media | F74: Poco sotto la media | AI74: Stirare e riporre tre capi | AJ74: {=_xlfn.TOROW(_xlfn.UNIQUE(_xlfn._xlws.FILTER(Table1[Motor challenge],Table1[Task]=AI74,"FutureTask")))} -> Poco sopra la media | AK74: {=_xlfn.TOROW(_xlfn.UNIQUE(_xlfn._xlws.FILTER(Table1[Process challenge],Table1[Task]=AI74,"FutureTask")))} -> Poco sopra la media | AL74: 2 | AM74: 4
B75: Altri compiti domestici di routine | C75: Apparecchiare il tavolo | D75: Apparecchiare il tavola – stile svedese | E75: Nella media | F75: Nella media | AI75: Apparecchiare il tavola – stile standard | AJ75: {=_xlfn.TOROW(_xlfn.UNIQUE(_xlfn._xlws.FILTER(Table1[Motor challenge],Table1[Task]=AI75,"FutureTask")))} -> Poco sotto la media | AK75: {=_xlfn.TOROW(_xlfn.UNIQUE(_xlfn._xlws.FILTER(Table1[Process challenge],Table1[Task]=AI75,"FutureTask")))} -> Poco sotto la media | AL75: -2 | AM75: -4
... B92: Altri piatti e preparazioni di cibo | C92: Preparazione del cibo e cottura al forno | D92: Preparare una pizza da un preparato secco per pizza | E92: Poco sopra la media | F92: Sopra la media | AI92: Fare la spesa – da quattro a sei articoli | AJ92: {=_xlfn.TOROW(_xlfn.UNIQUE(_xlfn._xlws.FILTER(Table1[Motor challenge],Table1[Task]=AI92,"FutureTask")))} -> Nella media | AK92: {=_xlfn.TOROW(_xlfn.UNIQUE(_xlfn._xlws.FILTER(Table1[Process challenge],Table1[Task]=AI92,"FutureTask")))} -> Nella media | AL92: 0 | AM92: 0
AI93: Preparare una pizza da un preparato secco per pizza | AJ93: {=_xlfn.TOROW(_xlfn.UNIQUE(_xlfn._xlws.FILTER(Table1[Motor challenge],Table1[Task]=AI93,"FutureTask")))} -> Poco sopra la media | AK93: {=_xlfn.TOROW(_xlfn.UNIQUE(_xlfn._xlws.FILTER(Table1[Process challenge],Table1[Task]=AI93,"FutureTask")))} -> Sopra la media | AL93: 2 | AM93: 8
